BEGIN:VCALENDAR
VERSION:2.0
PRODID:-//200.14.55.68//NONSGML kigkonsult.se iCalcreator 2.20//
CALSCALE:GREGORIAN
METHOD:PUBLISH
X-WR-CALNAME:
X-WR-CALDESC:
X-FROM-URL:http://biblioteca.ismm.edu.cu
X-WR-TIMEZONE:America/Dominica
BEGIN:VTIMEZONE
TZID:America/Dominica
X-LIC-LOCATION:America/Dominica
BEGIN:STANDARD
DTSTART:19120302T000000
TZOFFSETFROM:-040604
TZOFFSETTO:-0400
TZNAME:AST
END:STANDARD
END:VTIMEZONE
BEGIN:VEVENT
UID:ai1ec-915@biblioteca.ismm.edu.cu
DTSTAMP:20210813T041229Z
CATEGORIES:
CONTACT:
DESCRIPTION:Ciencias Sociales
DTSTART;TZID=America/Dominica:20190128T070000
DTEND;TZID=America/Dominica:20190131T213000
LOCATION:Palacio de Convenciones de la Habana
SEQUENCE:0
SUMMARY:VIII Foro sobre la Gestión de los Residuos Industriales
URL:http://biblioteca.ismm.edu.cu/?ai1ec_event=viii-foro-sobre-la-gestion-d
 e-los-residuos-industriales
X-COST-TYPE:free
X-ALT-DESC;FMTTYPE=text/html:<!DOCTYPE HTML PUBLIC '-//W3C//DTD HTML 3.2//E
 N'>\\n<HTML>\\n<HEAD>\\n<TITLE></TITLE>\\n</HEAD>\\n<BODY><p>Ciencias Soci
 ales</p>\n</BODY></HTML>
END:VEVENT
END:VCALENDAR
