BEGIN:VCALENDAR
VERSION:2.0
PRODID:-//200.14.55.90//NONSGML kigkonsult.se iCalcreator 2.20//
CALSCALE:GREGORIAN
METHOD:PUBLISH
X-WR-CALNAME:
X-WR-CALDESC:
X-FROM-URL:http://biblioteca.ismm.edu.cu
X-WR-TIMEZONE:America/Dominica
BEGIN:VTIMEZONE
TZID:America/Dominica
X-LIC-LOCATION:America/Dominica
BEGIN:STANDARD
DTSTART:19120302T000000
TZOFFSETFROM:-040604
TZOFFSETTO:-0400
TZNAME:AST
END:STANDARD
END:VTIMEZONE
BEGIN:VEVENT
UID:ai1ec-916@biblioteca.ismm.edu.cu
DTSTAMP:20191207T045316Z
CATEGORIES:
CONTACT:
DESCRIPTION:<p>Educación</p>
DTSTART;TZID=America/Dominica:20190204T000000
DTEND;TZID=America/Dominica:20190208T000000
LOCATION:Palacio de Convenciones de la Habana
SEQUENCE:0
SUMMARY:IV Conferencia Internacional POR EL EQUILIBRIO DEL MUNDO
URL:http://biblioteca.ismm.edu.cu/?ai1ec_event=iv-conferencia-internacional
 -por-el-equilibrio-del-mundo
X-COST-TYPE:free
END:VEVENT
END:VCALENDAR
