BEGIN:VCALENDAR
VERSION:2.0
PRODID:-//200.14.55.68//NONSGML kigkonsult.se iCalcreator 2.20//
CALSCALE:GREGORIAN
METHOD:PUBLISH
X-WR-CALNAME:
X-WR-CALDESC:
X-FROM-URL:http://biblioteca.ismm.edu.cu
X-WR-TIMEZONE:America/Dominica
BEGIN:VTIMEZONE
TZID:America/Dominica
X-LIC-LOCATION:America/Dominica
BEGIN:STANDARD
DTSTART:19120302T000000
TZOFFSETFROM:-040604
TZOFFSETTO:-0400
TZNAME:AST
END:STANDARD
END:VTIMEZONE
BEGIN:VEVENT
UID:ai1ec-920@biblioteca.ismm.edu.cu
DTSTAMP:20210813T041035Z
CATEGORIES:
CONTACT:
DESCRIPTION:
DTSTART;TZID=America/Dominica:20191007T173600
DTEND;TZID=America/Dominica:20200710T183600
LOCATION:Ciencia y Tecnología. Varadero
SEQUENCE:0
SUMMARY:Feria de soluciones innovadoras para la gestión del agua
URL:http://biblioteca.ismm.edu.cu/?ai1ec_event=feria-de-soluciones-innovado
 ras-para-la-gestion-del-agua
X-COST-TYPE:free
END:VEVENT
END:VCALENDAR
