BEGIN:VCALENDAR
VERSION:2.0
PRODID:-//200.14.55.90//NONSGML kigkonsult.se iCalcreator 2.20//
CALSCALE:GREGORIAN
METHOD:PUBLISH
X-WR-CALNAME:
X-WR-CALDESC:
X-FROM-URL:http://biblioteca.ismm.edu.cu
X-WR-TIMEZONE:America/Dominica
BEGIN:VTIMEZONE
TZID:America/Dominica
X-LIC-LOCATION:America/Dominica
BEGIN:STANDARD
DTSTART:19120302T000000
TZOFFSETFROM:-040604
TZOFFSETTO:-0400
TZNAME:AST
END:STANDARD
END:VTIMEZONE
BEGIN:VEVENT
UID:ai1ec-921@biblioteca.ismm.edu.cu
DTSTAMP:20191207T043108Z
CATEGORIES:
CONTACT:
DESCRIPTION:
DTSTART;TZID=America/Dominica:20200420T173700
DTEND;TZID=America/Dominica:20200424T183700
LOCATION:Ciencia y Tecnología  @ Hoteles del destino
SEQUENCE:0
SUMMARY:XII Encuentro de Editores de Revistas Científicas y Divulgativas
URL:http://biblioteca.ismm.edu.cu/?ai1ec_event=xii-encuentro-de-editores-de
 -revistas-cientificas-y-divulgativas
X-COST-TYPE:free
END:VEVENT
END:VCALENDAR
